BEGIN:VCALENDAR
VERSION:2.0
PRODID:-//Tukios.com/
BEGIN:VEVENT
UID:8f8086c0-6490-4571-b6e1-f8e1505556e1@www.ness-sibley.com
DTSTAMP:20260421T011004Z
DTSTART:20260516T180000Z
DTEND:20260516T200000Z
SUMMARY:Celebration of Life
DESCRIPTION:
URL:https://www.ness-sibley.com/obituaries/roger-lauper
LOCATION:Enfield Volunteer Fire Company 172 Enfield Main Road  Ithaca NY 
	14850
GEO:42.4378112;-76.6319943
END:VEVENT
END:VCALENDAR